BEGIN:VCALENDAR
VERSION:2.0
PRODID:-//Hutt Valley Clay Target Club - ECPv6.15.20//NONSGML v1.0//EN
CALSCALE:GREGORIAN
METHOD:PUBLISH
X-ORIGINAL-URL:https://huttvalleyclaytargetclub.org.nz
X-WR-CALDESC:Events for Hutt Valley Clay Target Club
REFRESH-INTERVAL;VALUE=DURATION:PT1H
X-Robots-Tag:noindex
X-PUBLISHED-TTL:PT1H
BEGIN:VTIMEZONE
TZID:Pacific/Auckland
BEGIN:STANDARD
TZOFFSETFROM:+1300
TZOFFSETTO:+1200
TZNAME:NZST
DTSTART:20250405T140000
END:STANDARD
BEGIN:DAYLIGHT
TZOFFSETFROM:+1200
TZOFFSETTO:+1300
TZNAME:NZDT
DTSTART:20250927T140000
END:DAYLIGHT
BEGIN:STANDARD
TZOFFSETFROM:+1300
TZOFFSETTO:+1200
TZNAME:NZST
DTSTART:20260404T140000
END:STANDARD
BEGIN:DAYLIGHT
TZOFFSETFROM:+1200
TZOFFSETTO:+1300
TZNAME:NZDT
DTSTART:20260926T140000
END:DAYLIGHT
BEGIN:STANDARD
TZOFFSETFROM:+1300
TZOFFSETTO:+1200
TZNAME:NZST
DTSTART:20270403T140000
END:STANDARD
BEGIN:DAYLIGHT
TZOFFSETFROM:+1200
TZOFFSETTO:+1300
TZNAME:NZDT
DTSTART:20270925T140000
END:DAYLIGHT
END:VTIMEZONE
BEGIN:VEVENT
DTSTART;TZID=Pacific/Auckland:20261128T090000
DTEND;TZID=Pacific/Auckland:20261128T170000
DTSTAMP:20260425T064406
CREATED:20260104T234829Z
LAST-MODIFIED:20260104T234829Z
UID:10000049-1795856400-1795885200@huttvalleyclaytargetclub.org.nz
SUMMARY:Novice coaching clinic and club members practice
DESCRIPTION:A great opportunity for those who are new to the sport or just want to give it a go – register for Novice Coaching – come along and learn to break clays!  To register you’ll find the ‘Book novice coaching’ button – here
URL:https://huttvalleyclaytargetclub.org.nz/event/novice-coaching-clinic-and-club-members-practice-10/
LOCATION:Hutt Valley Clay Target Club\, 280 Wallaceville Road\, Whitemans Valley\, Upper Hutt\, Wellington\, 5018\, New Zealand
CATEGORIES:Ball Trap,Compak,DTL,Skeet,Sporting
END:VEVENT
BEGIN:VEVENT
DTSTART;TZID=Pacific/Auckland:20261205T090000
DTEND;TZID=Pacific/Auckland:20261205T130000
DTSTAMP:20260425T064406
CREATED:20260104T235240Z
LAST-MODIFIED:20260104T235441Z
UID:10000050-1796461200-1796475600@huttvalleyclaytargetclub.org.nz
SUMMARY:Spring Working Bee
DESCRIPTION:Christmas is almost upon us – time to tidy up the grounds before the big fat fella pays us all a visit!
URL:https://huttvalleyclaytargetclub.org.nz/event/spring-working-bee/
LOCATION:Hutt Valley Clay Target Club\, 280 Wallaceville Road\, Whitemans Valley\, Upper Hutt\, Wellington\, 5018\, New Zealand
END:VEVENT
BEGIN:VEVENT
DTSTART;TZID=Pacific/Auckland:20261206T090000
DTEND;TZID=Pacific/Auckland:20261206T170000
DTSTAMP:20260425T064406
CREATED:20260104T235811Z
LAST-MODIFIED:20260104T235811Z
UID:10000051-1796547600-1796576400@huttvalleyclaytargetclub.org.nz
SUMMARY:Christmas Shoot
DESCRIPTION:Please bring $20 trophy.  DTL 3 x 10 and 1 x 10 consolation. \nSummer Cup and Ladies Kauri Cup over 30 DTL
URL:https://huttvalleyclaytargetclub.org.nz/event/christmas-shoot-2/
LOCATION:Hutt Valley Clay Target Club\, 280 Wallaceville Road\, Whitemans Valley\, Upper Hutt\, Wellington\, 5018\, New Zealand
CATEGORIES:DTL
ATTACH;FMTTYPE=image/jpeg:https://huttvalleyclaytargetclub.org.nz/wp-content/uploads/2025/11/bauble.avif
END:VEVENT
BEGIN:VEVENT
DTSTART;TZID=Pacific/Auckland:20261212T090000
DTEND;TZID=Pacific/Auckland:20261212T170000
DTSTAMP:20260425T064406
CREATED:20260105T000108Z
LAST-MODIFIED:20260105T000108Z
UID:10000052-1797066000-1797094800@huttvalleyclaytargetclub.org.nz
SUMMARY:Sporting Clays Grand Prix – Final Round and club members practice.
DESCRIPTION:Note:  THE FINAL ROUND IS HELD ON SATURDAY: \nFinal Round and prize giving with a BBQ for the Sporting Clays Grand Prix – The Grand Prix is a great opportunity to learn the art of sporting in a relaxed environment over a 60 target course. \nClub members practice is from 9 while the Grand Prix starts a 1pm
URL:https://huttvalleyclaytargetclub.org.nz/event/sporting-clays-grand-prix-final-round-and-club-members-practice/
LOCATION:Hutt Valley Clay Target Club\, 280 Wallaceville Road\, Whitemans Valley\, Upper Hutt\, Wellington\, 5018\, New Zealand
CATEGORIES:Ball Trap,Compak,DTL,Skeet,Sporting
END:VEVENT
BEGIN:VEVENT
DTSTART;TZID=Pacific/Auckland:20261227T090000
DTEND;TZID=Pacific/Auckland:20261227T170000
DTSTAMP:20260425T064406
CREATED:20260105T000355Z
LAST-MODIFIED:20260121T212824Z
UID:10000053-1798362000-1798390800@huttvalleyclaytargetclub.org.nz
SUMMARY:Top Gun Trophy
DESCRIPTION:Who is the best of the best over 25 Skeet\, 25 Compak\, 25 Single Rise\, 25 Ball Trap.  Includes Mollaun Team Shield
URL:https://huttvalleyclaytargetclub.org.nz/event/top-gun-trophy-2/
LOCATION:Hutt Valley Clay Target Club\, 280 Wallaceville Road\, Whitemans Valley\, Upper Hutt\, Wellington\, 5018\, New Zealand
CATEGORIES:Ball Trap,Compak,DTL,Skeet
END:VEVENT
END:VCALENDAR